BEGIN:VCALENDAR
VERSION:2.0
PRODID:-//Squarespace Inc/Squarespace 6//v6//EN
BEGIN:VEVENT
UID:5b4e58cff950b7d6505f2d44@squarespace.com
DTSTAMP:20180717T210054Z
DTSTART:20180805T213000Z
DTEND:20180811T223000Z
SUMMARY:St. K's Pop-Up Presents.. Alpaca Suri-Bol
END:VEVENT
END:VCALENDAR
