BEGIN:VCALENDAR
VERSION:2.0
PRODID:-//Squarespace Inc/Squarespace 6//v6//EN
BEGIN:VEVENT
UID:5b4e57d570a6adfb56b91fab@squarespace.com
DTSTAMP:20180717T205717Z
DTSTART:20180729T210000Z
DTEND:20180804T220000Z
SUMMARY:St. K's Pop-Up Presents...Mina for her
END:VEVENT
END:VCALENDAR
