BEGIN:VCALENDAR
VERSION:2.0
PRODID:-//Squarespace Inc/Squarespace 6//v6//EN
BEGIN:VEVENT
UID:5b4e57546d2a73cd54d010be@squarespace.com
DTSTAMP:20180717T205510Z
DTSTART:20180722T210000Z
DTEND:20180728T220000Z
SUMMARY:St. K's Pop-Up Presents.. Crown Heights Clothing
END:VEVENT
END:VCALENDAR
