BEGIN:VCALENDAR
VERSION:2.0
PRODID:-//Squarespace Inc/Squarespace 6//v6//EN
BEGIN:VEVENT
UID:5b440b6688251bce128527fc@squarespace.com
DTSTAMP:20180710T013158Z
DTSTART:20180709T013000Z
DTEND:20180722T053000Z
SUMMARY:St. K's Pop-Up Presents.. INKY CAT
END:VEVENT
END:VCALENDAR
