BEGIN:VCALENDAR
VERSION:2.0
PRODID:-//Squarespace Inc/Squarespace 6//v6//EN
BEGIN:VEVENT
UID:5b35f2fb6d2a73fcad1f8b39@squarespace.com
DTSTAMP:20180629T090120Z
DTSTART:20180625T090000Z
DTEND:20180708T100000Z
SUMMARY:Thievery & World Pop-Up 
END:VEVENT
END:VCALENDAR
