BEGIN:VCALENDAR
VERSION:2.0
PRODID:-//Squarespace Inc/Squarespace 6//v6//EN
BEGIN:VEVENT
UID:5afa1088aa4a99effd8a25e8@squarespace.com
DTSTAMP:20180514T231745Z
DTSTART:20180527T230000Z
DTEND:20180603T050000Z
SUMMARY:St. K's Pop-Up Presents.. Etta Every - EP & Fashion Launch 
END:VEVENT
END:VCALENDAR
