BEGIN:VCALENDAR
VERSION:2.0
PRODID:-//Squarespace Inc/Squarespace 6//v6//EN
BEGIN:VEVENT
UID:5afa0e331ae6cf34cf411ce0@squarespace.com
DTSTAMP:20180516T001205Z
DTSTART:20180520T230000Z
DTEND:20180527T050000Z
SUMMARY:St. K's Pop-Up Presents.. Gooseboards
END:VEVENT
END:VCALENDAR
