BEGIN:VCALENDAR
VERSION:2.0
PRODID:-//Squarespace Inc/Squarespace 6//v6//EN
BEGIN:VEVENT
UID:5acac5401ae6cf686ae5986a@squarespace.com
DTSTAMP:20180430T010911Z
DTSTART:20180423T020000Z
DTEND:20180506T030000Z
SUMMARY:St. K's Pop-Up Presents.. STALGIC SOCIETY
GEO:-36.857694;174.760139
LOCATION:St. Kevins Arcade\, 183 Karangahape Road\, Auckland\, Auckland\, 1
 010\, New Zealand
END:VEVENT
END:VCALENDAR
