BEGIN:VCALENDAR
VERSION:2.0
PRODID:-//Squarespace Inc/Squarespace 6//v6//EN
BEGIN:VEVENT
UID:5aa1c59a0852298804c3e3c6@squarespace.com
DTSTAMP:20180311T210329Z
DTSTART:20180320T123000Z
DTEND:20180321T013000Z
SUMMARY:Rose Tinted Flowers Launch - With UN's International Day of Happine
 ss!
GEO:-36.857694;174.760139
LOCATION:St. Kevins Arcade\, 183 Karangahape Road\, Auckland\, Auckland\, 1
 010\, New Zealand
END:VEVENT
END:VCALENDAR
